BEGIN:VCALENDAR
VERSION:2.0
PRODID:-//International Wizard of Oz Club - ECPv6.15.20//NONSGML v1.0//EN
CALSCALE:GREGORIAN
METHOD:PUBLISH
X-WR-CALNAME:International Wizard of Oz Club
X-ORIGINAL-URL:https://ozclub.org
X-WR-CALDESC:Events for International Wizard of Oz Club
REFRESH-INTERVAL;VALUE=DURATION:PT1H
X-Robots-Tag:noindex
X-PUBLISHED-TTL:PT1H
BEGIN:VTIMEZONE
TZID:UTC
BEGIN:STANDARD
TZOFFSETFROM:+0000
TZOFFSETTO:+0000
TZNAME:UTC
DTSTART:20210101T000000
END:STANDARD
END:VTIMEZONE
BEGIN:VEVENT
DTSTART;VALUE=DATE:20220508
DTEND;VALUE=DATE:20220512
DTSTAMP:20260422T131447
CREATED:20220502T033921Z
LAST-MODIFIED:20220502T041520Z
UID:100007092-1651968000-1652313599@ozclub.org
SUMMARY:MGM's Wizard of Oz in theaters across the country
DESCRIPTION:May 8 and May 11\, Flashback Cinema is bringing MGM’s 1939 classic Wizard of Oz to theaters in more than 30 states. Times vary. Look for one near you\, at FlashbackCinema.net. \nFollow the yellow brick road with Dorothy\, Scarecrow\, the Tin Man and the Cowardly Lion\, in the beloved musical based on the children’s book by L. Frank Baum. This magnificent Technicolor production features Judy Garland in her star-making role (“Toto\, I’ve a feeling we’re not in Kansas anymore…”) and Margaret Hamilton as the Wicked Witch of the West.  (“I’ll get you\, my pretty…and your little dog too!”)  \n1939 \nRated PG \n 
URL:https://ozclub.org/event/mgms-wizard-of-oz-in-theaters-across-the-country/
LOCATION:MO
CATEGORIES:Live Events
ATTACH;FMTTYPE=image/png:https://ozclub.org/wp-content/uploads/2022/05/Screen-Shot-2022-05-01-at-10.36.00-PM-e1651462949611.png
END:VEVENT
END:VCALENDAR