BEGIN:VCALENDAR
VERSION:2.0
PRODID:-//International Wizard of Oz Club - ECPv6.15.20//NONSGML v1.0//EN
CALSCALE:GREGORIAN
METHOD:PUBLISH
X-ORIGINAL-URL:https://ozclub.org
X-WR-CALDESC:Events for International Wizard of Oz Club
REFRESH-INTERVAL;VALUE=DURATION:PT1H
X-Robots-Tag:noindex
X-PUBLISHED-TTL:PT1H
BEGIN:VTIMEZONE
TZID:UTC
BEGIN:STANDARD
TZOFFSETFROM:+0000
TZOFFSETTO:+0000
TZNAME:UTC
DTSTART:20210101T000000
END:STANDARD
END:VTIMEZONE
BEGIN:VEVENT
DTSTART;VALUE=DATE:20220609
DTEND;VALUE=DATE:20220613
DTSTAMP:20260422T115216
CREATED:20220421T061712Z
LAST-MODIFIED:20220421T062553Z
UID:100006977-1654732800-1655078399@ozclub.org
SUMMARY:Judy Garland Festival
DESCRIPTION:The Judy Garland Museum and community of Grand Rapids\, Minnesota\, will celebrate the 100th birthday of Judy Garland on June 9-12. This year’s annual festival offers events all over town. Visit the Judy Garland Museum and the home where the family lived when she was born. Take a bus tour of the community to see sites associated with the family’s time in Grand Rapids. Judy’s son Joey Luft will greet fans at the museum Saturday afternoon. Events include a dinner\, a free film screening of The Wizard of Oz\, and an “Easter Parade” High Tea Party. Garland biographer and authority John Fricke will be presenting throughout the weekend.
URL:https://ozclub.org/event/judy-garland-festival/
LOCATION:Judy Garland Museum\, 2727 S. Pokegama Ave.\, Grand Rapids\, MN\, 55744\, United States
CATEGORIES:Live Events
ATTACH;FMTTYPE=image/jpeg:https://ozclub.org/wp-content/uploads/2022/04/JudyFest.jpg
END:VEVENT
END:VCALENDAR