BEGIN:VCALENDAR
VERSION:2.0
PRODID:-//International Wizard of Oz Club - ECPv6.15.20//NONSGML v1.0//EN
CALSCALE:GREGORIAN
METHOD:PUBLISH
X-WR-CALNAME:International Wizard of Oz Club
X-ORIGINAL-URL:https://ozclub.org
X-WR-CALDESC:Events for International Wizard of Oz Club
REFRESH-INTERVAL;VALUE=DURATION:PT1H
X-Robots-Tag:noindex
X-PUBLISHED-TTL:PT1H
BEGIN:VTIMEZONE
TZID:UTC
BEGIN:STANDARD
TZOFFSETFROM:+0000
TZOFFSETTO:+0000
TZNAME:UTC
DTSTART:20210101T000000
END:STANDARD
END:VTIMEZONE
BEGIN:VTIMEZONE
TZID:America/New_York
BEGIN:DAYLIGHT
TZOFFSETFROM:-0500
TZOFFSETTO:-0400
TZNAME:EDT
DTSTART:20210314T070000
END:DAYLIGHT
BEGIN:STANDARD
TZOFFSETFROM:-0400
TZOFFSETTO:-0500
TZNAME:EST
DTSTART:20211107T060000
END:STANDARD
BEGIN:DAYLIGHT
TZOFFSETFROM:-0500
TZOFFSETTO:-0400
TZNAME:EDT
DTSTART:20220313T070000
END:DAYLIGHT
BEGIN:STANDARD
TZOFFSETFROM:-0400
TZOFFSETTO:-0500
TZNAME:EST
DTSTART:20221106T060000
END:STANDARD
BEGIN:DAYLIGHT
TZOFFSETFROM:-0500
TZOFFSETTO:-0400
TZNAME:EDT
DTSTART:20230312T070000
END:DAYLIGHT
BEGIN:STANDARD
TZOFFSETFROM:-0400
TZOFFSETTO:-0500
TZNAME:EST
DTSTART:20231105T060000
END:STANDARD
END:VTIMEZONE
BEGIN:VEVENT
DTSTART;VALUE=DATE:20220625
DTEND;VALUE=DATE:20220901
DTSTAMP:20260422T102423
CREATED:20220705T152139Z
LAST-MODIFIED:20220705T160217Z
UID:100007725-1656115200-1661990399@ozclub.org
SUMMARY:Bacchus House summer Oz theme in Folsom\, CA
DESCRIPTION:A tribute exhibit to Wizard of Oz made of memorabilia and nostalgia is on display this summer at the Bacchus House in Folsom\, California. The public can enjoy this celebration of Oz from June 25 20 August 31 during business hours. \nIn addition\, two five-course wine-paired dinners will be held to raise money for Shriners Children’s Northern California. Both dinners also will include a silent auction\, live music\, and champagne receptions. These dinners are scheduled at 6:30 July 14 and August 11. See their website for details. \nBacchus House hours are Tuesday-Saturday 11:30-2 p.m. (lunch). 4-6 p.m. (happy hour)\, 4-9 p.m. (dinner)\, Sunday 4-6 pm. They are closed Mondays.
URL:https://ozclub.org/event/bacchus-house-summer-oz-theme-in-folsom-ca/
LOCATION:Bacchus House\, 1004 E. Bidwell Street\, Suite 100\, Folsom\, CA\, 95630\, United States
CATEGORIES:Live Events
ATTACH;FMTTYPE=image/jpeg:https://ozclub.org/wp-content/uploads/2022/07/Bacchus-scaled.jpg
END:VEVENT
BEGIN:VEVENT
DTSTART;TZID=UTC:20220625T093000
DTEND;TZID=UTC:20230101T170000
DTSTAMP:20260422T102423
CREATED:20220705T155807Z
LAST-MODIFIED:20220705T160141Z
UID:100007730-1656149400-1672592400@ozclub.org
SUMMARY:Henry Ford Disney exhibit includes Oz
DESCRIPTION:The Henry Ford Museum of American Innovation in Dearborn\, Michigan\, currently offers “Heroes & Villains: The Art of the Disney Costume Presented by the Walt Disney Archives.” Included costumes of particular interest to Oz fans are those from Return to Oz and Oz the Great and Powerful. \nFollow the website link to film screenings and other event details. \n 
URL:https://ozclub.org/event/henry-ford-disney-exhibit-includes-oz/
LOCATION:Henry Ford Museum of American Innovation\, 20900 Oakwood Boulevard\, Dearborn\, MI\, 48124‑5029\, United States
CATEGORIES:Live Events
ATTACH;FMTTYPE=image/png:https://ozclub.org/wp-content/uploads/2022/07/DisneyFord-e1657036780686.png
END:VEVENT
BEGIN:VEVENT
DTSTART;TZID=America/New_York:20220727T200000
DTEND;TZID=America/New_York:20220730T230000
DTSTAMP:20260422T102423
CREATED:20220502T041230Z
LAST-MODIFIED:20220502T041230Z
UID:100007096-1658952000-1659222000@ozclub.org
SUMMARY:The Wizard of Oz with The Brandywiners
DESCRIPTION:The Brandywiners Ltd.\, stage the Wizard of Oz on the Long wood Gardens Open Air Theatre stage in Kennett Square\, Pennsylvania\, July 27-30 at 8 pm. \nTickets are now available for The Wizard of Oz. L. Frank Baum’s classic novel comes to life on the Longwood Gardens Open Air Theatre stage and features all the most beloved songs and moments from the 1939 classic film. \nYoung Dorothy Gale is swept away by a tornado from her Kansas farm to the magical land of Oz.  There\, she encounters a host of whimsical characters: good witches\, bad witches\, animals that talk\, scarecrows that walk\, and things magical to behold.  To find her way home\, she must journey along the Yellow Brick Road to see the mysterious and all-powerful Wizard of Oz in Emerald City.  Along the way\, she makes new friends\, but must also brave many dangers\, including the Wicked Witch of the West\, who will stop at nothing to get her hands on Dorothy’s magical ruby slippers. \nTo make it home safely\, Dorothy must learn an important lesson: there’s no place like home.The Wizard of Oz is presented by arrangement with Concord Theatricals on behalf of Tams-Witmark LLC. \nFor tickets and information\, visit www.LongwoodGardens.org or call (610) 388-1000.
URL:https://ozclub.org/event/the-wizard-of-oz-with-the-brandywiners/
LOCATION:Longwood Gardens\, 1001 Longwood Road\, Kennett Square\, PA\, 19348\, United States
CATEGORIES:Live Events
ATTACH;FMTTYPE=image/jpeg:https://ozclub.org/wp-content/uploads/2022/05/Brandywiners-WOZ-Show-Poster-e1651464836460.jpg
END:VEVENT
END:VCALENDAR