BEGIN:VCALENDAR
VERSION:2.0
PRODID:-//International Wizard of Oz Club - ECPv6.15.20//NONSGML v1.0//EN
CALSCALE:GREGORIAN
METHOD:PUBLISH
X-WR-CALNAME:International Wizard of Oz Club
X-ORIGINAL-URL:https://ozclub.org
X-WR-CALDESC:Events for International Wizard of Oz Club
REFRESH-INTERVAL;VALUE=DURATION:PT1H
X-Robots-Tag:noindex
X-PUBLISHED-TTL:PT1H
BEGIN:VTIMEZONE
TZID:UTC
BEGIN:STANDARD
TZOFFSETFROM:+0000
TZOFFSETTO:+0000
TZNAME:UTC
DTSTART:20210101T000000
END:STANDARD
END:VTIMEZONE
BEGIN:VTIMEZONE
TZID:America/Chicago
BEGIN:DAYLIGHT
TZOFFSETFROM:-0600
TZOFFSETTO:-0500
TZNAME:CDT
DTSTART:20210314T080000
END:DAYLIGHT
BEGIN:STANDARD
TZOFFSETFROM:-0500
TZOFFSETTO:-0600
TZNAME:CST
DTSTART:20211107T070000
END:STANDARD
BEGIN:DAYLIGHT
TZOFFSETFROM:-0600
TZOFFSETTO:-0500
TZNAME:CDT
DTSTART:20220313T080000
END:DAYLIGHT
BEGIN:STANDARD
TZOFFSETFROM:-0500
TZOFFSETTO:-0600
TZNAME:CST
DTSTART:20221106T070000
END:STANDARD
BEGIN:DAYLIGHT
TZOFFSETFROM:-0600
TZOFFSETTO:-0500
TZNAME:CDT
DTSTART:20230312T080000
END:DAYLIGHT
BEGIN:STANDARD
TZOFFSETFROM:-0500
TZOFFSETTO:-0600
TZNAME:CST
DTSTART:20231105T070000
END:STANDARD
BEGIN:DAYLIGHT
TZOFFSETFROM:-0600
TZOFFSETTO:-0500
TZNAME:CDT
DTSTART:20240310T080000
END:DAYLIGHT
BEGIN:STANDARD
TZOFFSETFROM:-0500
TZOFFSETTO:-0600
TZNAME:CST
DTSTART:20241103T070000
END:STANDARD
END:VTIMEZONE
BEGIN:VTIMEZONE
TZID:America/Denver
BEGIN:DAYLIGHT
TZOFFSETFROM:-0700
TZOFFSETTO:-0600
TZNAME:MDT
DTSTART:20210314T090000
END:DAYLIGHT
BEGIN:STANDARD
TZOFFSETFROM:-0600
TZOFFSETTO:-0700
TZNAME:MST
DTSTART:20211107T080000
END:STANDARD
BEGIN:DAYLIGHT
TZOFFSETFROM:-0700
TZOFFSETTO:-0600
TZNAME:MDT
DTSTART:20220313T090000
END:DAYLIGHT
BEGIN:STANDARD
TZOFFSETFROM:-0600
TZOFFSETTO:-0700
TZNAME:MST
DTSTART:20221106T080000
END:STANDARD
BEGIN:DAYLIGHT
TZOFFSETFROM:-0700
TZOFFSETTO:-0600
TZNAME:MDT
DTSTART:20230312T090000
END:DAYLIGHT
BEGIN:STANDARD
TZOFFSETFROM:-0600
TZOFFSETTO:-0700
TZNAME:MST
DTSTART:20231105T080000
END:STANDARD
BEGIN:DAYLIGHT
TZOFFSETFROM:-0700
TZOFFSETTO:-0600
TZNAME:MDT
DTSTART:20240310T090000
END:DAYLIGHT
BEGIN:STANDARD
TZOFFSETFROM:-0600
TZOFFSETTO:-0700
TZNAME:MST
DTSTART:20241103T080000
END:STANDARD
END:VTIMEZONE
BEGIN:VTIMEZONE
TZID:America/New_York
BEGIN:DAYLIGHT
TZOFFSETFROM:-0500
TZOFFSETTO:-0400
TZNAME:EDT
DTSTART:20210314T070000
END:DAYLIGHT
BEGIN:STANDARD
TZOFFSETFROM:-0400
TZOFFSETTO:-0500
TZNAME:EST
DTSTART:20211107T060000
END:STANDARD
BEGIN:DAYLIGHT
TZOFFSETFROM:-0500
TZOFFSETTO:-0400
TZNAME:EDT
DTSTART:20220313T070000
END:DAYLIGHT
BEGIN:STANDARD
TZOFFSETFROM:-0400
TZOFFSETTO:-0500
TZNAME:EST
DTSTART:20221106T060000
END:STANDARD
BEGIN:DAYLIGHT
TZOFFSETFROM:-0500
TZOFFSETTO:-0400
TZNAME:EDT
DTSTART:20230312T070000
END:DAYLIGHT
BEGIN:STANDARD
TZOFFSETFROM:-0400
TZOFFSETTO:-0500
TZNAME:EST
DTSTART:20231105T060000
END:STANDARD
END:VTIMEZONE
BEGIN:VEVENT
DTSTART;TZID=UTC:20220625T093000
DTEND;TZID=UTC:20230101T170000
DTSTAMP:20260422T031458
CREATED:20220705T155807Z
LAST-MODIFIED:20220705T160141Z
UID:100007730-1656149400-1672592400@ozclub.org
SUMMARY:Henry Ford Disney exhibit includes Oz
DESCRIPTION:The Henry Ford Museum of American Innovation in Dearborn\, Michigan\, currently offers “Heroes & Villains: The Art of the Disney Costume Presented by the Walt Disney Archives.” Included costumes of particular interest to Oz fans are those from Return to Oz and Oz the Great and Powerful. \nFollow the website link to film screenings and other event details. \n 
URL:https://ozclub.org/event/henry-ford-disney-exhibit-includes-oz/
LOCATION:Henry Ford Museum of American Innovation\, 20900 Oakwood Boulevard\, Dearborn\, MI\, 48124‑5029\, United States
CATEGORIES:Live Events
ATTACH;FMTTYPE=image/png:https://ozclub.org/wp-content/uploads/2022/07/DisneyFord-e1657036780686.png
END:VEVENT
BEGIN:VEVENT
DTSTART;VALUE=DATE:20220908
DTEND;VALUE=DATE:20230327
DTSTAMP:20260422T031458
CREATED:20230225T001641Z
LAST-MODIFIED:20230225T001815Z
UID:100008808-1662595200-1679875199@ozclub.org
SUMMARY:Something Wicked: Susan Hilferty Costume exhibition at the McNay Art Museum
DESCRIPTION:Susan Hilferty wowed Broadway with Wicked costume designs in 2004\, winning the Tony Award for Best Costume Design of a Musical. Something Wicked presents thirty of her exquisite and avant-garde costumes and designs—some from Wicked\, some never seen before. Explore the process of costume design in “Hilferty’s Studio”—but beware of flying monkeys! \nSee website for ticket prices as many are subsidized on certain dates. \n 
URL:https://ozclub.org/event/something-wicked-susan-hilferty-costume-exhibition-at-the-mcnay-art-museum/
LOCATION:McNay Art Museum\, 6000N. New Braunfels Ave.\, San Antonio\, TX\, 78209\, United States
CATEGORIES:Live Events
ATTACH;FMTTYPE=image/jpeg:https://ozclub.org/wp-content/uploads/2023/02/McNay.jpg
END:VEVENT
BEGIN:VEVENT
DTSTART;TZID=America/Denver:20221025T100000
DTEND;TZID=America/Denver:20230115T170000
DTSTAMP:20260422T031458
CREATED:20221027T025729Z
LAST-MODIFIED:20221027T030107Z
UID:100008062-1666692000-1673802000@ozclub.org
SUMMARY:Buddy Ebsen Exhibition on Display at Univ. of Wyoming American Heritage Center
DESCRIPTION:“The Entertaining Life of Buddy Ebsen” is the new exhibition hosted by the University of Wyoming’s American Heritage Center (AHC) \n“The exhibit begins with Ebsen’s days as a song and dance man in vaudeville and in the ‘Ziegfeld Follies\,’” says AHC Assistant Archivist Roger Simon\, who curated the exhibition. “It then moves to his early Hollywood career in the late 1930s\, when he acted alongside stars such as Jack Benny\, Barbara Stanwyck and Judy Garland.” \nEbsen’s big break should have come when he played the Tin Man in “The Wizard of Oz” in 1939\, but the aluminum dust in his makeup caused major health problems; he was hospitalized and forced to leave the production. Ebsen later observed\, “I had ingested pure aluminum; it had coated my lungs like paint.” \nThe Ebsen exhibition features materials from all stages of his career\, even exploring his playwriting and painting. It will be on display in the AHC’s loggia through Jan. 15. Through his wife Dorothy Ebsen’s gift\, Buddy Ebsen’s papers and effects make the AHC exhibition possible\, Flesher says. \nThe American Heritage Center in Laramie is open 10-5 Monday-Friday. \n  \nFor more information\, visit UW’s AHC at www.uwyo.edu/ahc/.
URL:https://ozclub.org/event/buddy-ebsen-exhibition-on-display-at-univ-of-wyoming-american-heritage-center/
LOCATION:American Heritage Center\, University of Wyoming (Laramie)\, Centennial Complex\, 2111 Willett Drive\, Laramie\, WY\, 82071\, United States
CATEGORIES:Live Events
ATTACH;FMTTYPE=image/webp:https://ozclub.org/wp-content/uploads/2022/10/8e34zru6z4i11.webp
END:VEVENT
BEGIN:VEVENT
DTSTART;TZID=America/Chicago:20221119T000000
DTEND;TZID=America/Chicago:20230108T000000
DTSTAMP:20260422T031458
CREATED:20221013T030610Z
LAST-MODIFIED:20221013T030610Z
UID:100008007-1668816000-1673136000@ozclub.org
SUMMARY:The Wizard of Oz: Curve Theatre\, Leicester
DESCRIPTION:Click your heels together three times and say\, ‘there’s no place like Curve this Christmas’. \n\n\nJoin Dorothy and Toto as they are swept up from sepia-soaked Kansas and transported over the rainbow to the technicolour wonderland of Oz. \n\n\nOn her adventure down the Yellow Brick Road\, Dorothy meets new friends Scarecrow\, Tinman\, and Lion who help her on her way\, but the villainous and frightfully glamourous Wicked Witch has other plans for Dorothy\, and in Oz – nothing is quite as it seems. Through the deep Dark Forest to the bright neon lights of Emerald City\, Dorothy and her friends search for the powerful and mysterious Wizard of Oz\, the only person who can grant their hearts desires\, and maybe even a way home. \n\n\nDirected by Nikolai Foster (A Chorus Line\, West Side Story\, Grease) and featuring music and songs from Andrew Lloyd Webber and Tim Rice as well as the iconic originals from the MGM film\, The Wizard of Oz is a wondrous wanderlust through the world of Oz\, in a spectacular Christmas at Curve adventure for the whole family.
URL:https://ozclub.org/event/the-wizard-of-oz-curve-theatre-leicester/
LOCATION:Curve Theatre\, 60 Rutland Street\, Leicester\, LE1 1SB\, United Kingdom
CATEGORIES:Live Events
ATTACH;FMTTYPE=image/png:https://ozclub.org/wp-content/uploads/2022/10/Screen-Shot-2022-10-12-at-10.03.05-PM.png
END:VEVENT
BEGIN:VEVENT
DTSTART;TZID=America/Chicago:20221125T000000
DTEND;TZID=America/Chicago:20221231T000000
DTSTAMP:20260422T031458
CREATED:20221129T151524Z
LAST-MODIFIED:20221129T153028Z
UID:100008373-1669334400-1672444800@ozclub.org
SUMMARY:"The Wizard of Oz Colorado\," in Cripple Creek
DESCRIPTION:Inventor Nikola Tesla gets a starring role in Thin Air Theatre Company’s new original show\, “The Wizard of Oz Colorado\,” loosely based on L. Frank Baum’s Oz stories. The show and annual Christmas olio opened Nov. 25 and runs through Dec. 31 at Butte Theater in Cripple Creek. \nPrice: $12-$24\, free 5 and younger \nWhen: 7 p.m. Friday\,\n7 p.m. Thursdays and Fridays\,\n1 and 7 p.m. Saturdays\,\n1 p.m. Sundays\,\n7 p.m. Dec. 21 \nA news article about this new play can be found here.
URL:https://ozclub.org/event/the-wizard-of-oz-colorado-in-cripple-creek/
LOCATION:The Butte Theater\, 139 E. Bennett Ave.\, Cripple Creek\, CO\, 80813\, United States
CATEGORIES:Live Events
ATTACH;FMTTYPE=image/jpeg:https://ozclub.org/wp-content/uploads/2022/11/TheWizardofOzColorado.jpg
ORGANIZER;CN="Thin Air Theatre Company":MAILTO:Chris@ThinAirTheatre.com
END:VEVENT
BEGIN:VEVENT
DTSTART;TZID=America/Chicago:20221201T000000
DTEND;TZID=America/Chicago:20221231T000000
DTSTAMP:20260422T031458
CREATED:20221013T032207Z
LAST-MODIFIED:20221013T032913Z
UID:100008012-1669852800-1672444800@ozclub.org
SUMMARY:Wizard of Oz: The Panto\, Ontario
DESCRIPTION:Follow the Yellow Brick Road to the theatre this season\, because one of the greatest tales ever told is touching down … with a brand new twist!You know the story\, but you’ve never seen it like this! With its winning combination of incredible music\, lively dancing\, outrageous costumes\, audience participation\, and of course\, a dash of theatrical magic\, this fractured fairy tale brims with humour\, heart\, and adventure. Join Dorothy as she journeys over the rainbow and makes her way to Oz with the help of some newfound friends.Just like past hits Sleeping Beauty\, Jack and the Beanstalk\, Cinderella\, and Snow White\, this entertaining panto adaptation of the famed fable is a must-see holiday spectacle packed with family fun!This production will also be on stage at the St. Jacobs Country Playhouse from December 1 to December 31. 
URL:https://ozclub.org/event/wizard-of-oz-the-panto-kings-wharf-theatre-ontario/
LOCATION:St. Jacobs Country Playhouse\, 40 Benjamin Rd. E.\, Waterloo\, Ontario\, N2V 2J9\, Canada
CATEGORIES:Live Events
ATTACH;FMTTYPE=image/png:https://ozclub.org/wp-content/uploads/2022/10/Screen-Shot-2022-10-12-at-10.20.29-PM.png
END:VEVENT
BEGIN:VEVENT
DTSTART;TZID=America/Chicago:20221202T080000
DTEND;TZID=America/Chicago:20221231T170000
DTSTAMP:20260422T031458
CREATED:20221027T031332Z
LAST-MODIFIED:20221027T031332Z
UID:100008066-1669968000-1672506000@ozclub.org
SUMMARY:Land of Oz staged in Cleveland Heights\, Ohio
DESCRIPTION:Based on the second book in L. Frank Baum’s Oz series\, young Tip escapes an evil witch\, then sets out on an adventure to the Emerald City. Along the way\, he meets the Scarecrow\, Tin Man\, Lion\, and some other new friends while discovering more about himself than he ever thought possible. With book and lyrics by celebrated playwright George Brant (Grounded\, Marie & Rosetta) and music by Dobama Artistic Director Nathan Motta\, this World Premiere musical for the whole family will come to the Dobama Theatre stage this holiday season. \nSee website for times and ticket prices.
URL:https://ozclub.org/event/land-of-oz-staged-in-cleveland-heights-ohio/
LOCATION:Dobama Theatre\, 2340 Lee Road\, Cleveland Heights\, OH\, 44118\, United States
CATEGORIES:Live Events
ATTACH;FMTTYPE=image/jpeg:https://ozclub.org/wp-content/uploads/2022/10/LOZDobama_2223_posters_22x28copySMALL.jpeg
END:VEVENT
BEGIN:VEVENT
DTSTART;VALUE=DATE:20221203
DTEND;VALUE=DATE:20230206
DTSTAMP:20260422T031458
CREATED:20221207T030215Z
LAST-MODIFIED:20221207T030215Z
UID:100008416-1670025600-1675641599@ozclub.org
SUMMARY:But Tell Me\, Is It a Civilized Country? A exhibition featuring the artwork of Max Guy
DESCRIPTION:Multimedia artist Max Guy’s first solo exhibition\, But Tell Me\, Is It a Civilized Country?\, runs December 3 through February 5 at the Renaissance Society in Chicago’s Hyde Park. The show explores various iterations and adaptations of L. Frank Baum’s Land of Oz. (The title references the Munchkins’ query about Dorothy’s native Kansas.) \n“I often take literature or movies as a jumping-off point\,” Guy says during a walk-through of the Arts Club preview in October. “I think I was really interested in\, frankly\, why Motown would produce a Black-excellence version of The Wizard of Oz\, which led me to exploring the entire kind of canon of literature.” That canon consists of 14 novels by Baum and several more by other writers authorized by Baum’s publisher after his death in 1919\, as well as countless adaptations in other forms\, including the aforementioned movies\, which Guy is editing together into a two-channel video installation. \nA New York City native\, Guy\, 33\, arrived here in 2014 to pursue an MFA at Northwestern. “I like to say that it was just my excuse to move to Chicago. For a long time\, all of the emerging artists whose work I liked\, they were coming out of Chicago.” His art spans such disciplines as video\, sculpture\, and collage\, and it has been exhibited at Expo Chicago\, the Museum of Contemporary Art\, and the Malmö Art Museum in Sweden. \n\nOpening Celebration Saturday Dec. 3 from 4-7 pm\nExhibition walk-through with artist Max Guy and Curator Michael Harrison Dec. 17\, 3-4:30 pm. \nHours: Wed – Thu 12pm to 6pm\, Fri 1pm to 7pm\, Sat – Sun 12pm to 6pm \n\nExcerpt from “Emerald Visions\,” Chicago Magazine   (Click to read full article)\n\n\nBY KRIS VIRE\nPHOTOGRAPH BY LENNY GILMORE\n\nDECEMBER 1\, 2022\, 10:00 AM
URL:https://ozclub.org/event/but-tell-me-is-it-a-civilized-country-a-exhibition-featuring-the-artwork-of-max-guy/
LOCATION:The Renaissance Society\, Cobb Hall\, 4th floor\, 5811 S Ellis Ave\, Chicago\, IL\, 60637\, United States
CATEGORIES:Live Events
ATTACH;FMTTYPE=image/jpeg:https://ozclub.org/wp-content/uploads/2022/12/C202212-Go-Max-Guy-Exhibition-1.jpg
ORGANIZER;CN="The Renissance Society":MAILTO:info@renaissancesociety.org
END:VEVENT
BEGIN:VEVENT
DTSTART;TZID=America/Chicago:20221208T080000
DTEND;TZID=America/Chicago:20221230T170000
DTSTAMP:20260422T031458
CREATED:20221028T205919Z
LAST-MODIFIED:20221028T205919Z
UID:100008089-1670486400-1672419600@ozclub.org
SUMMARY:The Laguna Playhouse Presents: The Wonderful Winter of Oz
DESCRIPTION:Lythgoe Family Panto invites you on an exciting adventure to the enchanted land of Oz in their fantastically festive and fun production. Expect a hilarious\, heartwarming evening full of song\, dance\, and holiday merriment! \nThe classic American tale gets a holiday makeover as Dorothy is spirited away by a blizzard on Christmas Eve and finds herself in a strange and wondrous land full of witches\, munchkins\, and more! With beloved holiday tunes and a talented cast\, discover the magic of pantomime today! \nSee the event website for dates/times and ticket pricing. \n\n\n\n 
URL:https://ozclub.org/event/the-laguna-playhouse-presents-the-wonderful-winter-of-oz/
LOCATION:The Laguna Playhouse\, 606 Laguna Canyon Road\, Laguna Beach\, CA\, 92651\, United States
CATEGORIES:Live Events
ATTACH;FMTTYPE=image/png:https://ozclub.org/wp-content/uploads/2022/10/46bb5553-756c-4173-bcc5-0406e05a73e6_65baa16d6a067f6339a47709f3b74207.png
END:VEVENT
BEGIN:VEVENT
DTSTART;TZID=America/New_York:20221209T190000
DTEND;TZID=America/New_York:20221218T000000
DTSTAMP:20260422T031458
CREATED:20221207T024644Z
LAST-MODIFIED:20221207T024644Z
UID:100008411-1670612400-1671321600@ozclub.org
SUMMARY:Life and Adventures of Santa Claus in Mansfield\, Ohio
DESCRIPTION:The Mansfield Playhouse presents The Life and Adventures of Santa Claus\, a dramatization by Pat Cook of L. Frank Baum’s novel of the same name.\n“This delightful tale answers once and for all how Santa Claus made the first toy\, why he climbs down chimneys and\, most of all\, how he learned to laugh that great “Ho\, ho\, ho.”” \nShow Dates: December 9\, 10\, 16\, 17 at 7:00 pm; December 18 at 2:30 pm\nTickets for “The Life and Adventures of Santa Claus” are $13 for adults\, $12 for seniors (62 and over) and $8 for students (12 and younger). \nYou can purchase tickets online by clicking here.
URL:https://ozclub.org/event/life-and-adventures-of-santa-claus-in-mansfield-ohio/
LOCATION:The Mansfield Playhouse\, 95 E 3rd St\, Mansfield\, OH\, 44902-1323\, United States
CATEGORIES:Live Events
ATTACH;FMTTYPE=image/jpeg:https://ozclub.org/wp-content/uploads/2022/12/web-logo-Santa-1.jpg
ORGANIZER;CN="The Mansfield Playhouse":MAILTO:TheMansfieldPlayhouse@gmail.com
END:VEVENT
BEGIN:VEVENT
DTSTART;TZID=America/Chicago:20221214T080000
DTEND;TZID=America/Chicago:20230108T170000
DTSTAMP:20260422T031458
CREATED:20221028T211230Z
LAST-MODIFIED:20221028T211230Z
UID:100008048-1671004800-1673197200@ozclub.org
SUMMARY:Claus the Musical premieres in England
DESCRIPTION:How the Boy became a Man. How the Man became a Legend. \nFrom the writer of The Wonderful Wizard of Oz comes the world premiere of Claus The Musical. Based on the beloved children’s book The Life and Adventures of Santa Claus by L. Frank Baum\, this brand-new musical is as magical as Christmas itself. \nWith spellbinding songs from Andy Collyer\, heart-warming storytelling\, enchanting sets\, and a whole load of festive fun\, discover the story of Claus and how he became a man forever in our hearts\, and on Christmas Eve\, forever in our skies. \nAbandoned as a baby in the magical Forest of Burzee\, he is gifted to Necile\, a wood nymph\, who showers him with love and names him Claus.  With a helping hand from the mystical inhabitants of the forest – Fairies\, Knooks and Ryls – she teaches him that kindness is the most important lesson of all\, a gift that Claus eventually shares with us\, as he embarks on a journey to bring the miracle of Christmas to the whole world. \nKate Golledge directs\, while the show has musical direction by Alex Beetschen\, set and costume design by Stewart J Charlesworth\, lighting by Aaron J Dootson\, casting by Jane Deitch\, sound design by Andrew Johnson\, and choreography by Lucinda Lawrence. The piece is produced by Katy Lipson for Aria Entertainment and co-produced by Jason Haigh-Ellery. \nSee links for dates\, times\, and ticket prices beginning at £25.50 \n 
URL:https://ozclub.org/event/claus-the-musical-premieres-in-england/
LOCATION:The Lowry in Salford\, Pier 8\, The Quays\, Salford\, M50 3AZ\, United Kingdom
CATEGORIES:Live Events
ATTACH;FMTTYPE=image/jpeg:https://ozclub.org/wp-content/uploads/2022/10/claus.jpg
END:VEVENT
BEGIN:VEVENT
DTSTART;TZID=America/Chicago:20221217T000000
DTEND;TZID=America/Chicago:20221231T000000
DTSTAMP:20260422T031458
CREATED:20221013T033944Z
LAST-MODIFIED:20221013T035209Z
UID:100008020-1671235200-1672444800@ozclub.org
SUMMARY:The Wizard of Oz Panto; Gaity Theatre
DESCRIPTION:This Christmas\, click your heels\, clap your hands & journey over the rainbow! \nFollow Dorothy (Leah Carter) and her adorable four-legged-friend Toto down the Yellow Brick Road to the Merry Old Land of Oz. During their travels\, they meet some lovely friends including the Scarecrow (Tony Rudd)\, Tin Man (Jack Divers)\, and the Cowardly Lion (Brendan Cunningham) who needs some courage. The four new friends are on a quest to meet the great and powerful Wizard of Oz\, which won’t be easy\, as the Wicked Witch of the West (Lisa Kreisky) is determined to stop them by any means necessary…. \nThis magical pantomime features great songs\, dazzling dance routines\, stunning scenery\, beautiful costumes\, and amazing special effects – it will be an unforgettable experience for children and adults alike. \nAdult Stalls – £20.50\nSenior/Under 16 Stalls – £19.50\nFamily (X4) Stalls – £72\nGroup (8+) – £19
URL:https://ozclub.org/event/the-wizard-of-oz-panto-gaity-theatre/
LOCATION:Gaity Theatre\, Harris Promenade\, Douglas\, Isle of Man\, IM1 2HP\, United Kingdom
CATEGORIES:Live Events
ATTACH;FMTTYPE=image/png:https://ozclub.org/wp-content/uploads/2022/10/Screen-Shot-2022-10-12-at-10.28.08-PM.png
END:VEVENT
END:VCALENDAR