BEGIN:VCALENDAR
VERSION:2.0
PRODID:-//International Wizard of Oz Club - ECPv6.15.20//NONSGML v1.0//EN
CALSCALE:GREGORIAN
METHOD:PUBLISH
X-ORIGINAL-URL:https://ozclub.org
X-WR-CALDESC:Events for International Wizard of Oz Club
REFRESH-INTERVAL;VALUE=DURATION:PT1H
X-Robots-Tag:noindex
X-PUBLISHED-TTL:PT1H
BEGIN:VTIMEZONE
TZID:America/Chicago
BEGIN:DAYLIGHT
TZOFFSETFROM:-0600
TZOFFSETTO:-0500
TZNAME:CDT
DTSTART:20220313T080000
END:DAYLIGHT
BEGIN:STANDARD
TZOFFSETFROM:-0500
TZOFFSETTO:-0600
TZNAME:CST
DTSTART:20221106T070000
END:STANDARD
BEGIN:DAYLIGHT
TZOFFSETFROM:-0600
TZOFFSETTO:-0500
TZNAME:CDT
DTSTART:20230312T080000
END:DAYLIGHT
BEGIN:STANDARD
TZOFFSETFROM:-0500
TZOFFSETTO:-0600
TZNAME:CST
DTSTART:20231105T070000
END:STANDARD
BEGIN:DAYLIGHT
TZOFFSETFROM:-0600
TZOFFSETTO:-0500
TZNAME:CDT
DTSTART:20240310T080000
END:DAYLIGHT
BEGIN:STANDARD
TZOFFSETFROM:-0500
TZOFFSETTO:-0600
TZNAME:CST
DTSTART:20241103T070000
END:STANDARD
END:VTIMEZONE
BEGIN:VTIMEZONE
TZID:America/Denver
BEGIN:DAYLIGHT
TZOFFSETFROM:-0700
TZOFFSETTO:-0600
TZNAME:MDT
DTSTART:20220313T090000
END:DAYLIGHT
BEGIN:STANDARD
TZOFFSETFROM:-0600
TZOFFSETTO:-0700
TZNAME:MST
DTSTART:20221106T080000
END:STANDARD
BEGIN:DAYLIGHT
TZOFFSETFROM:-0700
TZOFFSETTO:-0600
TZNAME:MDT
DTSTART:20230312T090000
END:DAYLIGHT
BEGIN:STANDARD
TZOFFSETFROM:-0600
TZOFFSETTO:-0700
TZNAME:MST
DTSTART:20231105T080000
END:STANDARD
BEGIN:DAYLIGHT
TZOFFSETFROM:-0700
TZOFFSETTO:-0600
TZNAME:MDT
DTSTART:20240310T090000
END:DAYLIGHT
BEGIN:STANDARD
TZOFFSETFROM:-0600
TZOFFSETTO:-0700
TZNAME:MST
DTSTART:20241103T080000
END:STANDARD
END:VTIMEZONE
BEGIN:VEVENT
DTSTART;VALUE=DATE:20230319
DTEND;VALUE=DATE:20230701
DTSTAMP:20260421T204317
CREATED:20230320T030920Z
LAST-MODIFIED:20230423T180752Z
UID:100009420-1679184000-1688169599@ozclub.org
SUMMARY:Atlanta restaurant takes diners to Oz
DESCRIPTION:Amore e Amore\, an Italian restaurant in Atlanta\, is serving up everything from Ozmopolitan cocktails to Toto Tiramisu. Oz fans can enjoy the Oz themes now through the end of June. \n  \n  \n 
URL:https://ozclub.org/event/atlanta-restaurant-takes-diners-to-oz/
LOCATION:Amore e Amore\, 467 N Highland Ave NE\, Atlanta\, 30307\, United States
CATEGORIES:Live Events
ATTACH;FMTTYPE=image/png:https://ozclub.org/wp-content/uploads/2023/03/PopUpAtlanta.png
END:VEVENT
BEGIN:VEVENT
DTSTART;TZID=America/Denver:20230414T000000
DTEND;TZID=America/Denver:20230416T000000
DTSTAMP:20260421T204317
CREATED:20221013T024436Z
LAST-MODIFIED:20221013T030708Z
UID:100008002-1681430400-1681603200@ozclub.org
SUMMARY:Wonderful Wizard of Oz: Canyon Concert Ballet
DESCRIPTION:Follow Dorothy on her adventure through Oz where she meets beloved characters like the Scarecrow\, Tin-man\, and the Lion. See them battle the evil witch with her army of flying monkeys and watch them conquer their greatest fears. \n\n\n\n\nCanyon Concert Ballet’s Wonderful Wizard of Oz is a colorful and playful production perfect for the young and the young-at-heart. With over 100 unique costumes and lavish sets\, this ballet is a vibrant rendition of the classic tale. \nLincoln Center Fort Collins April 14 – 16\, 2023 \n\nTickets: $29-$45
URL:https://ozclub.org/event/wonderful-wizard-of-oz-canyon-concert-ballet/
LOCATION:The Lincoln Center\, 417 West Magnolia Street\, Fort Collins\, CO\, 80521\, United States
CATEGORIES:Live Events
ATTACH;FMTTYPE=image/png:https://ozclub.org/wp-content/uploads/2022/10/Screen-Shot-2022-10-12-at-9.27.55-PM.png
ORGANIZER;CN="Canyon Concert Ballet":MAILTO:Info@ccballet.org
END:VEVENT
BEGIN:VEVENT
DTSTART;VALUE=DATE:20230414
DTEND;VALUE=DATE:20230424
DTSTAMP:20260421T204317
CREATED:20230415T032947Z
LAST-MODIFIED:20230415T032947Z
UID:100009935-1681430400-1682294399@ozclub.org
SUMMARY:The Wizard of Paws\, Martin City Melodrama in Independence\, Mo.
DESCRIPTION:The Wizard of Paws\, or There’s No Place Like a Furever Home comes to the Englewood Arts stage April 14 – April 23 \nMartin City Melodrama has hit the road in a trip to Independence\, Missouri\, with an original musical melodrama. This trip to Emerald City takes Dorothy\, the dog rescuer\, down the yellow brick road to face the dog catcher of the West. Along with her familiar friends\, The Scarecrow\, The Tinman\, and The Lion\, this animal-loving group returns to Kansas to open the first dog shelter in the state of Kansas! \nWritten and directed by Jeanne Beechwood and songs by Jon Copeland\, this magical retelling of the Oz story features actors with unique abilities\, community performers\, and their children. Pawformers are senior dogs rescued from KC Pet Project\, Melissa’s Second Chances\, Wayside Waifs\, Gladstone Animal Shelter\, Midwest Animal ResQ\, and Angel’s Furever Senior Dog Rescue. \nPerformances are set for April 14\, 15\, 16\, 21\, and 23. Check the website for times and ticketing information. \n\n\n\n\nhttps://www.englewoodarts.art/wizard-of-paws
URL:https://ozclub.org/event/the-wizard-of-paws-martin-city-melodrama-in-independence-mo/
LOCATION:Englewood Arts Center\, 10901 E Winner Rd\, Independence\, MO\, 64052\, United States
CATEGORIES:Live Events
ATTACH;FMTTYPE=image/png:https://ozclub.org/wp-content/uploads/2023/04/wizardofpawsflyerfrontweb.png
END:VEVENT
BEGIN:VEVENT
DTSTART;TZID=America/Chicago:20230414T170000
DTEND;TZID=America/Chicago:20230515T000000
DTSTAMP:20260421T204317
CREATED:20230415T035214Z
LAST-MODIFIED:20230415T035214Z
UID:100009940-1681491600-1684108800@ozclub.org
SUMMARY:Emerald City pop-up bar in Kansas City
DESCRIPTION:The Conductor Club in Kansas City’s historic Union Station currently features a Wizard of Oz-themed “Emerald City” pop-up bar through May 15. Find your table in front of Munchkinland or the Haunted Forest. Better yet\, wander deep into the bar for seating in the Wizard’s Throne Room. Ozzy Cocktails can be complemented with sharable small bites from Pierpont’s restaurant on the lower level of the Station — another Kansas City classic. \nThis intimate space seats 40 people and frequently sells out. Reservations are recommended.  Emerald City is open Thursdays 5-10 pm and Saturday/Sunday 5pm-Midnight. \nFYI\, come prepared to negotiate detours as the station prepares to host the upcoming 2023 NFL Draft.
URL:https://ozclub.org/event/emerald-city-pop-up-bar-in-kansas-city/
LOCATION:Conductor Club\, 30 West Pershing Road\, Kansas City\, MO\, 64108\, United States
CATEGORIES:Live Events
ATTACH;FMTTYPE=image/png:https://ozclub.org/wp-content/uploads/2023/04/51570920.png
END:VEVENT
BEGIN:VEVENT
DTSTART;TZID=America/Chicago:20230415T120000
DTEND;TZID=America/Chicago:20230415T170000
DTSTAMP:20260421T204317
CREATED:20230227T042850Z
LAST-MODIFIED:20230227T042850Z
UID:100008826-1681560000-1681578000@ozclub.org
SUMMARY:A Twister in Wonderland -- theme party in Derby\, CT
DESCRIPTION:Imagine\, if you will\, that the Wizard of Oz meets Alice in Wonderland. Now don’t be late and don’t look at the man behind the curtain. Food\, imagination\, and you! \nTickets cover buffet lunch with ice cream\, tea\, vendors\, a photoshoot\, music by Francoise Never Told Me\, and a Silk City Steampunk button. \n$39.99 in advance; $45 at the door.
URL:https://ozclub.org/event/a-twister-in-wonderland-theme-party-in-derby-ct/
LOCATION:Twisted Vine Restaurant\, 285 Main St.\, Derby\, CT\, 06418\, United States
CATEGORIES:Live Events
ATTACH;FMTTYPE=image/png:https://ozclub.org/wp-content/uploads/2023/02/TwisterinWonderland.png
END:VEVENT
END:VCALENDAR