BEGIN:VCALENDAR
VERSION:2.0
PRODID:-//International Wizard of Oz Club - ECPv6.15.20//NONSGML v1.0//EN
CALSCALE:GREGORIAN
METHOD:PUBLISH
X-ORIGINAL-URL:https://ozclub.org
X-WR-CALDESC:Events for International Wizard of Oz Club
REFRESH-INTERVAL;VALUE=DURATION:PT1H
X-Robots-Tag:noindex
X-PUBLISHED-TTL:PT1H
BEGIN:VTIMEZONE
TZID:America/Chicago
BEGIN:DAYLIGHT
TZOFFSETFROM:-0600
TZOFFSETTO:-0500
TZNAME:CDT
DTSTART:20220313T080000
END:DAYLIGHT
BEGIN:STANDARD
TZOFFSETFROM:-0500
TZOFFSETTO:-0600
TZNAME:CST
DTSTART:20221106T070000
END:STANDARD
BEGIN:DAYLIGHT
TZOFFSETFROM:-0600
TZOFFSETTO:-0500
TZNAME:CDT
DTSTART:20230312T080000
END:DAYLIGHT
BEGIN:STANDARD
TZOFFSETFROM:-0500
TZOFFSETTO:-0600
TZNAME:CST
DTSTART:20231105T070000
END:STANDARD
BEGIN:DAYLIGHT
TZOFFSETFROM:-0600
TZOFFSETTO:-0500
TZNAME:CDT
DTSTART:20240310T080000
END:DAYLIGHT
BEGIN:STANDARD
TZOFFSETFROM:-0500
TZOFFSETTO:-0600
TZNAME:CST
DTSTART:20241103T070000
END:STANDARD
END:VTIMEZONE
BEGIN:VEVENT
DTSTART;TZID=America/Chicago:20230706T080000
DTEND;TZID=America/Chicago:20230916T170000
DTSTAMP:20260421T141710
CREATED:20230630T045042Z
LAST-MODIFIED:20230630T045042Z
UID:100010425-1688630400-1694883600@ozclub.org
SUMMARY:Wizard of Oz in London; UK tour to follow
DESCRIPTION:The producer of the smash hit Joseph and the Amazing Technicolor Dreamcoat\, presents a brand-new production of The Wizard of Oz\, one of the world’s most beloved musicals. Featuring the iconic original score from the Oscar-winning MGM film including\, Over The Rainbow\, Follow The Yellow Brick Road and We’re Off To See The Wizard with additional songs from Andrew Lloyd Webber and Tim Rice\, this spectacular production will be a magical experience for all the family. \n\n\nJoin Dorothy and Toto on an unforgettable adventure as they are swept over the rainbow to the merry old land of Oz. \n\n\n\n\n\nNote that show previews began June 23. \n\n\nUK tour follows. Find details at https://uktour.wizardofozmusical.com/tickets/
URL:https://ozclub.org/event/wizard-of-oz-in-london-uk-tour-to-follow/
LOCATION:London Palladium\, 8 Argyll Street\, London\, W1F 7TF\, United Kingdom
CATEGORIES:Live Events
ATTACH;FMTTYPE=image/png:https://ozclub.org/wp-content/uploads/2023/06/Screenshot-2023-06-26-at-9.08.55-AM.png
END:VEVENT
BEGIN:VEVENT
DTSTART;TZID=America/Chicago:20230825T080000
DTEND;TZID=America/Chicago:20230827T170000
DTSTAMP:20260421T141710
CREATED:20230428T043000Z
LAST-MODIFIED:20230428T044829Z
UID:100010042-1692950400-1693155600@ozclub.org
SUMMARY:New England WizardFest\, Boxborough\, MA
DESCRIPTION:Imagine a place where a car can fly over yellow bricks. Where Witches in conical hats cast Charms and Enchantments\, Wizards play chess with Knights in shining armour and Magicians make the impossible Possible. A Magical place where imagination becomes Your Reality.  New England WizardFest at Boxboro Regency Hotel in Boxborough\, MA\, offers fans magic\, celebrity guests\, family activities\, vendors selling magical wares\, licensed merchandise and memorabilia from famous literary wizard brands such as Harry Potter\, Wizard of Oz\, Lord of the Rings\, Marvel’s Doctor Strange\, Merlin the Magician and many more\, plus autographs\, posters\, books and pop culture collectibles. Expect a weekend of performances\, classes\, photo ops\, autograph sessions\, panels\, and presentations \nCelebrity Guests signing autographs and offering selfie photo ops(both for a fee)\, including Chris Rankin (Percy Weasley from Harry Potter movies)\, mentalist Jon Stetson\, magician Steve Charette and more to be announced. \nDaily and weekend passes available while supply lasts. After-parties Friday and Saturday nights. \nFriday August 25\, vendors will be open from 4:00 until 8:00 pm with a preview for VIPs opening at 3:00 pm; Saturday and Sunday doors open from 10:00 am\, with special early buyers access at 9:00 am. … Saturday open till 6:00 pm\, Sunday open until 5:00 pm. \nTickets start at $12. Purchase through Eventbrite:  https://www.eventbrite.com/e/new-england-wizardfest-magic-convention-august-25-27-2023-tickets-595427990147
URL:https://ozclub.org/event/new-england-wizardfest-boxborough-ma/
LOCATION:Boxborough Regency Hotel and Conference Center\, 242 Adams Place\, Boxborough\, MA\, 01719\, United States
CATEGORIES:Live Events
ATTACH;FMTTYPE=image/png:https://ozclub.org/wp-content/uploads/2023/04/WizardFest.png
END:VEVENT
END:VCALENDAR