BEGIN:VCALENDAR
VERSION:2.0
PRODID:-//International Wizard of Oz Club - ECPv6.15.20//NONSGML v1.0//EN
CALSCALE:GREGORIAN
METHOD:PUBLISH
X-ORIGINAL-URL:https://ozclub.org
X-WR-CALDESC:Events for International Wizard of Oz Club
REFRESH-INTERVAL;VALUE=DURATION:PT1H
X-Robots-Tag:noindex
X-PUBLISHED-TTL:PT1H
BEGIN:VTIMEZONE
TZID:America/Chicago
BEGIN:DAYLIGHT
TZOFFSETFROM:-0600
TZOFFSETTO:-0500
TZNAME:CDT
DTSTART:20220313T080000
END:DAYLIGHT
BEGIN:STANDARD
TZOFFSETFROM:-0500
TZOFFSETTO:-0600
TZNAME:CST
DTSTART:20221106T070000
END:STANDARD
BEGIN:DAYLIGHT
TZOFFSETFROM:-0600
TZOFFSETTO:-0500
TZNAME:CDT
DTSTART:20230312T080000
END:DAYLIGHT
BEGIN:STANDARD
TZOFFSETFROM:-0500
TZOFFSETTO:-0600
TZNAME:CST
DTSTART:20231105T070000
END:STANDARD
BEGIN:DAYLIGHT
TZOFFSETFROM:-0600
TZOFFSETTO:-0500
TZNAME:CDT
DTSTART:20240310T080000
END:DAYLIGHT
BEGIN:STANDARD
TZOFFSETFROM:-0500
TZOFFSETTO:-0600
TZNAME:CST
DTSTART:20241103T070000
END:STANDARD
BEGIN:DAYLIGHT
TZOFFSETFROM:-0600
TZOFFSETTO:-0500
TZNAME:CDT
DTSTART:20250309T080000
END:DAYLIGHT
BEGIN:STANDARD
TZOFFSETFROM:-0500
TZOFFSETTO:-0600
TZNAME:CST
DTSTART:20251102T070000
END:STANDARD
END:VTIMEZONE
BEGIN:VEVENT
DTSTART;VALUE=DATE:20230902
DTEND;VALUE=DATE:20231106
DTSTAMP:20260421T113740
CREATED:20230901T053242Z
LAST-MODIFIED:20230901T053306Z
UID:100011418-1693612800-1699228799@ozclub.org
SUMMARY:The Wonderful Wizard of Oz themed Corn Maze at Lyman Orchards\, Middlefield\, CT
DESCRIPTION:The 2023 corn maze officially Saturday\, September 2nd at 10 am with a ribbon-cutting ceremony. The Corn Maze and Cider Donut Festival serves as the opening event Sept. 2-3. Learn more about the festival here. \nThe 2023 Lyman Orchards Corn Maze transports you into the Land of Oz\, revisiting the classic 1900 American fairytale book of a young girl named Dorothy and her adventures in a magical land where she meets new friends and powerful witches. In the maze\, you’ll learn how “The Wonderful Wizard of Oz” story came to be\, how it has influenced pop culture\, and you’ll even learn about the history of other popular fairytales! \n\nThe maze is approximately 4 acres in size with over a mile of pathways.  The average time to make it through the maze is approximately 30-40 minutes.  Signage throughout the pathways features educational content and trivia related to The Wonderful Wizard of Oz\, fairy tales\, pop culture\, and some relevant historical events as well. \nAdmission is $11 for adults\, $6 for ages 4 – 12\, and free for children under 3 years. One dollar of each maze admission will be donated to support the American Cancer Society.  In addition\, $.50 of each admission fee will be donated to the Connecticut Cancer Foundation. The maze is open 1 pm-5:30 pm Monday-Friday and 10 am-5:30 pm on Weekends and Holidays. The last maze entry is 5:30 pm. The maze is in its 24th year of operation; It has raised more than $730\,000 for the American Cancer Society and $54\,287 for the Connecticut Cancer Foundation. \nSee the website for additional information. \n\n 
URL:https://ozclub.org/event/the-wonderful-wizard-of-oz-themed-corn-maze-at-lyman-orchards-middlefield-ct/
LOCATION:Lyman Orchards\, 32 Reeds Gap Road\, Middlefield\, CT\, 06455\, United States
CATEGORIES:Live Events
ATTACH;FMTTYPE=image/png:https://ozclub.org/wp-content/uploads/2023/09/Corn-Maze-Opening-Day-Website-2-1.png
ORGANIZER;CN="Lyman Orchards":MAILTO: bcritchley@lymanorchards.com
END:VEVENT
BEGIN:VEVENT
DTSTART;TZID=America/Chicago:20230926T000000
DTEND;TZID=America/Chicago:20240303T000000
DTSTAMP:20260421T113740
CREATED:20230318T032727Z
LAST-MODIFIED:20230318T032727Z
UID:100009277-1695686400-1709424000@ozclub.org
SUMMARY:The Wiz pre-Broadway National Tour
DESCRIPTION:This groundbreaking twist on The Wizard of Oz changed the face of Broadway—from its iconic score packed with soul\, gospel\, rock\, and finger-snapping 70s funk to its stirring tale of Dorothy’s journey to find her place in a contemporary world.  Audiences get to enjoy the epic grooves of such beloved\, timeless hits as “Ease on Down the Road\,” which became the show’s break-out single\, and the bona fide classic “Home” in this spectacular revival. See the official show website for details. \nBaltimore\, MD\, Hippodrome Theatre — September 26 – October 1\, 2023\nPittsburgh\, PA\, Benedum Center — October 31 – November 5\, 2023\nAtlanta\, GA\, Fox Theatre — November 14 – November 19\, 2023\nChicago\, IL\, Cadillac Palace Theatre — November 28 – December 10\, 2023\nDes Moines\, IA\, Des Moines Performing Arts Center — December 12 – December 17\, 2023\nTempe\, AZ\, ASU Gammage — January 2 – January 7\, 2024\nSan Deigo\, CA\, Civic Theatre — January 9 – January 14\, 2024\nLos Angeles\, CA\, Hollywood Pantages Theatre — February 13 – March 3\, 2024
URL:https://ozclub.org/event/the-wiz-pre-broadway-national-tour/
LOCATION:MO
CATEGORIES:Live Events
ATTACH;FMTTYPE=image/jpeg:https://ozclub.org/wp-content/uploads/2023/03/TheWiz.jpg
END:VEVENT
BEGIN:VEVENT
DTSTART;VALUE=DATE:20231027
DTEND;VALUE=DATE:20231029
DTSTAMP:20260421T113740
CREATED:20230318T045852Z
LAST-MODIFIED:20230318T045852Z
UID:100009302-1698364800-1698537599@ozclub.org
SUMMARY:Ohio Wizard of Oz Expo
DESCRIPTION:The dates are set — Oct. 27-28 — for the annual Ohio Wizard of Oz Expo in Aurora\, Ohio. Follow the website as program details develop for this fun-filled weekend celebrating the classic film musical and all things Oz. The Ohio Wizard of Oz Expo is brought to you by lifelong fans working to bring Oz magic to their own backyard.
URL:https://ozclub.org/event/ohio-wizard-of-oz-expo-2/
LOCATION:Ohio Wizard of Oz Expo\, Aurora\, OH\, United States
CATEGORIES:Live Events
ATTACH;FMTTYPE=image/jpeg:https://ozclub.org/wp-content/uploads/2023/03/OhioOzFest.jpg
END:VEVENT
END:VCALENDAR