BEGIN:VCALENDAR
VERSION:2.0
PRODID:-//International Wizard of Oz Club - ECPv6.15.20//NONSGML v1.0//EN
CALSCALE:GREGORIAN
METHOD:PUBLISH
X-WR-CALNAME:International Wizard of Oz Club
X-ORIGINAL-URL:https://ozclub.org
X-WR-CALDESC:Events for International Wizard of Oz Club
REFRESH-INTERVAL;VALUE=DURATION:PT1H
X-Robots-Tag:noindex
X-PUBLISHED-TTL:PT1H
BEGIN:VTIMEZONE
TZID:America/Chicago
BEGIN:DAYLIGHT
TZOFFSETFROM:-0600
TZOFFSETTO:-0500
TZNAME:CDT
DTSTART:20220313T080000
END:DAYLIGHT
BEGIN:STANDARD
TZOFFSETFROM:-0500
TZOFFSETTO:-0600
TZNAME:CST
DTSTART:20221106T070000
END:STANDARD
BEGIN:DAYLIGHT
TZOFFSETFROM:-0600
TZOFFSETTO:-0500
TZNAME:CDT
DTSTART:20230312T080000
END:DAYLIGHT
BEGIN:STANDARD
TZOFFSETFROM:-0500
TZOFFSETTO:-0600
TZNAME:CST
DTSTART:20231105T070000
END:STANDARD
BEGIN:DAYLIGHT
TZOFFSETFROM:-0600
TZOFFSETTO:-0500
TZNAME:CDT
DTSTART:20240310T080000
END:DAYLIGHT
BEGIN:STANDARD
TZOFFSETFROM:-0500
TZOFFSETTO:-0600
TZNAME:CST
DTSTART:20241103T070000
END:STANDARD
BEGIN:DAYLIGHT
TZOFFSETFROM:-0600
TZOFFSETTO:-0500
TZNAME:CDT
DTSTART:20250309T080000
END:DAYLIGHT
BEGIN:STANDARD
TZOFFSETFROM:-0500
TZOFFSETTO:-0600
TZNAME:CST
DTSTART:20251102T070000
END:STANDARD
END:VTIMEZONE
BEGIN:VEVENT
DTSTART;TZID=America/Chicago:20230926T000000
DTEND;TZID=America/Chicago:20240303T000000
DTSTAMP:20260421T073016
CREATED:20230318T032727Z
LAST-MODIFIED:20230318T032727Z
UID:100009277-1695686400-1709424000@ozclub.org
SUMMARY:The Wiz pre-Broadway National Tour
DESCRIPTION:This groundbreaking twist on The Wizard of Oz changed the face of Broadway—from its iconic score packed with soul\, gospel\, rock\, and finger-snapping 70s funk to its stirring tale of Dorothy’s journey to find her place in a contemporary world.  Audiences get to enjoy the epic grooves of such beloved\, timeless hits as “Ease on Down the Road\,” which became the show’s break-out single\, and the bona fide classic “Home” in this spectacular revival. See the official show website for details. \nBaltimore\, MD\, Hippodrome Theatre — September 26 – October 1\, 2023\nPittsburgh\, PA\, Benedum Center — October 31 – November 5\, 2023\nAtlanta\, GA\, Fox Theatre — November 14 – November 19\, 2023\nChicago\, IL\, Cadillac Palace Theatre — November 28 – December 10\, 2023\nDes Moines\, IA\, Des Moines Performing Arts Center — December 12 – December 17\, 2023\nTempe\, AZ\, ASU Gammage — January 2 – January 7\, 2024\nSan Deigo\, CA\, Civic Theatre — January 9 – January 14\, 2024\nLos Angeles\, CA\, Hollywood Pantages Theatre — February 13 – March 3\, 2024
URL:https://ozclub.org/event/the-wiz-pre-broadway-national-tour/
LOCATION:MO
CATEGORIES:Live Events
ATTACH;FMTTYPE=image/jpeg:https://ozclub.org/wp-content/uploads/2023/03/TheWiz.jpg
END:VEVENT
BEGIN:VEVENT
DTSTART;VALUE=DATE:20231130
DTEND;VALUE=DATE:20231203
DTSTAMP:20260421T073016
CREATED:20231108T021542Z
LAST-MODIFIED:20231108T021542Z
UID:100011682-1701302400-1701561599@ozclub.org
SUMMARY:The Wonderful Wizard of Oz Pantomime
DESCRIPTION:The 1st year Performing Arts and Dance Students of Burnley College are “Off to see the Wizard!”  Follow the yellow brick road with us as our amazing performers bring to life this iconic story with dance\, song\, and slapstick. Sure to captivate audiences of all ages and keep you laughing ‘til the new year! \nTickets are £5 – £10 through EventBrite. \nhttps://www.eventbrite.co.uk/e/the-wonderful-wizard-of-oz-pantomime-tickets-740002376027?aff=oddtdtcreator
URL:https://ozclub.org/event/the-wonderful-wizard-of-oz-pantomime/
LOCATION:Burnley College\, Princess Way\, Burnley\, BB12 0AN\, United Kingdom
CATEGORIES:Live Events
ATTACH;FMTTYPE=image/jpeg:https://ozclub.org/wp-content/uploads/2023/11/https-cdn.evbuc_.com-images-622108759-148010249660-1-original.20231017-090908.jpeg
END:VEVENT
END:VCALENDAR