BEGIN:VCALENDAR
VERSION:2.0
PRODID:-//International Wizard of Oz Club - ECPv6.15.20//NONSGML v1.0//EN
CALSCALE:GREGORIAN
METHOD:PUBLISH
X-ORIGINAL-URL:https://ozclub.org
X-WR-CALDESC:Events for International Wizard of Oz Club
REFRESH-INTERVAL;VALUE=DURATION:PT1H
X-Robots-Tag:noindex
X-PUBLISHED-TTL:PT1H
BEGIN:VTIMEZONE
TZID:America/Chicago
BEGIN:DAYLIGHT
TZOFFSETFROM:-0600
TZOFFSETTO:-0500
TZNAME:CDT
DTSTART:20220313T080000
END:DAYLIGHT
BEGIN:STANDARD
TZOFFSETFROM:-0500
TZOFFSETTO:-0600
TZNAME:CST
DTSTART:20221106T070000
END:STANDARD
BEGIN:DAYLIGHT
TZOFFSETFROM:-0600
TZOFFSETTO:-0500
TZNAME:CDT
DTSTART:20230312T080000
END:DAYLIGHT
BEGIN:STANDARD
TZOFFSETFROM:-0500
TZOFFSETTO:-0600
TZNAME:CST
DTSTART:20231105T070000
END:STANDARD
BEGIN:DAYLIGHT
TZOFFSETFROM:-0600
TZOFFSETTO:-0500
TZNAME:CDT
DTSTART:20240310T080000
END:DAYLIGHT
BEGIN:STANDARD
TZOFFSETFROM:-0500
TZOFFSETTO:-0600
TZNAME:CST
DTSTART:20241103T070000
END:STANDARD
END:VTIMEZONE
BEGIN:VEVENT
DTSTART;VALUE=DATE:20230319
DTEND;VALUE=DATE:20230701
DTSTAMP:20260421T175422
CREATED:20230320T030920Z
LAST-MODIFIED:20230423T180752Z
UID:100009420-1679184000-1688169599@ozclub.org
SUMMARY:Atlanta restaurant takes diners to Oz
DESCRIPTION:Amore e Amore\, an Italian restaurant in Atlanta\, is serving up everything from Ozmopolitan cocktails to Toto Tiramisu. Oz fans can enjoy the Oz themes now through the end of June. \n  \n  \n 
URL:https://ozclub.org/event/atlanta-restaurant-takes-diners-to-oz/
LOCATION:Amore e Amore\, 467 N Highland Ave NE\, Atlanta\, 30307\, United States
CATEGORIES:Live Events
ATTACH;FMTTYPE=image/png:https://ozclub.org/wp-content/uploads/2023/03/PopUpAtlanta.png
END:VEVENT
BEGIN:VEVENT
DTSTART;TZID=America/Chicago:20230414T170000
DTEND;TZID=America/Chicago:20230515T000000
DTSTAMP:20260421T175422
CREATED:20230415T035214Z
LAST-MODIFIED:20230415T035214Z
UID:100009940-1681491600-1684108800@ozclub.org
SUMMARY:Emerald City pop-up bar in Kansas City
DESCRIPTION:The Conductor Club in Kansas City’s historic Union Station currently features a Wizard of Oz-themed “Emerald City” pop-up bar through May 15. Find your table in front of Munchkinland or the Haunted Forest. Better yet\, wander deep into the bar for seating in the Wizard’s Throne Room. Ozzy Cocktails can be complemented with sharable small bites from Pierpont’s restaurant on the lower level of the Station — another Kansas City classic. \nThis intimate space seats 40 people and frequently sells out. Reservations are recommended.  Emerald City is open Thursdays 5-10 pm and Saturday/Sunday 5pm-Midnight. \nFYI\, come prepared to negotiate detours as the station prepares to host the upcoming 2023 NFL Draft.
URL:https://ozclub.org/event/emerald-city-pop-up-bar-in-kansas-city/
LOCATION:Conductor Club\, 30 West Pershing Road\, Kansas City\, MO\, 64108\, United States
CATEGORIES:Live Events
ATTACH;FMTTYPE=image/png:https://ozclub.org/wp-content/uploads/2023/04/51570920.png
END:VEVENT
BEGIN:VEVENT
DTSTART;TZID=America/Chicago:20230427T000000
DTEND;TZID=America/Chicago:20230506T000000
DTSTAMP:20260421T175422
CREATED:20230324T175116Z
LAST-MODIFIED:20230324T175116Z
UID:100009573-1682553600-1683331200@ozclub.org
SUMMARY:The Wiz in New Bedford\, Massachusetts
DESCRIPTION:The Wiz infuses L. Frank Baum’s The Wonderful Wizard of Oz with a dazzling mix of rock\, gospel and soul music. This timeless tale of Dorothy’s adventures through the Land of Oz is a fun\, family-friendly\, modern musical. \n‍Please note: the performance on Thursday\, April 27\, is a pre‍view performance. All tickets are $35. \n\n\n\n\n\nTickets priced at $35-65. \nClick here for casting news from March 24. \n 
URL:https://ozclub.org/event/the-wiz-in-new-bedford-massachusetts/
LOCATION:Zeiterion Performing Arts Center\, 684 Purchase St.\, New Bedford\, MA\, 02740\, United States
CATEGORIES:Live Events
ATTACH;FMTTYPE=image/jpeg:https://ozclub.org/wp-content/uploads/2023/03/TheWizNB.jpg
ORGANIZER;CN="New Bedford Festival Theatre":MAILTO:NewBedfordFT@aol.com
END:VEVENT
BEGIN:VEVENT
DTSTART;TZID=America/Chicago:20230503T180000
DTEND;TZID=America/Chicago:20230503T220000
DTSTAMP:20260421T175422
CREATED:20230501T161711Z
LAST-MODIFIED:20230501T163407Z
UID:100010065-1683136800-1683151200@ozclub.org
SUMMARY:WisHope Gala in Milwaukee features Oz theme
DESCRIPTION:Brains. Heart. Courage. Home.\nYour trip down our yellow brick road can make a difference.\n\n\nThe May 3 fundraising gala for Project WisHope has chosen There’s No Place Like Home for its event theme. Host Ryan Jay (TMJ4’s The Morning Blend and Wizard of Oz Historian) will emcee music from Wicked\, The Wiz\, and The Wizard of Oz performed by phenomenally talented Broadway veterans Andrew & Susan Varela\, Cynthia Cobb and more. There will be dinner\, dancing\, auction items\, costume characters\, and other surprises all for a great cause.\n\n\nProject WisHope is a 501 (C3) non-profit\, peer-run Recovery Community Organization located in the Milwaukee and Waukesha areas and serving the state of Wisconsin. Our mission is to provide resources\, education\, advocacy\, and peer support to Wisconsin’s recovery community members\, including those directly impacted by addiction and mental health conditions and their family members\, friends\, and allies.\n\n 
URL:https://ozclub.org/event/wishope-gala-in-milwaukee-features-oz-theme/
LOCATION:The Clybourn\, 2202 W. Clybourn Street\, Milwaukee\,\, WI\, 53233\, United States
CATEGORIES:Live Events
ATTACH;FMTTYPE=image/jpeg:https://ozclub.org/wp-content/uploads/2023/05/344019782_1582241515630238_1497250141892416940_n.jpg
ORGANIZER;CN="Project WisHope":MAILTO:hello@wishope.org
END:VEVENT
BEGIN:VEVENT
DTSTART;TZID=America/Chicago:20230507T150000
DTEND;TZID=America/Chicago:20230507T170000
DTSTAMP:20260421T175422
CREATED:20230318T041336Z
LAST-MODIFIED:20230318T041336Z
UID:100008856-1683471600-1683478800@ozclub.org
SUMMARY:"Oz on Stage" in Peekskill\, NY
DESCRIPTION:Sunday\, May 7th at 3pm\, at the Paramount Hudson Valley Theater in Peekskil\,l NY\, Antonia Arts Inc. presents\, “Oz On Stage”.\n\nAntonia Arts is a not-for-profit performing arts organization developed by Scarlett Antonia. “Oz On Stage will include Frank and the Women of Oz\, a multimedia performance created by local artist Marcy B. Freedman entitled. “Frank and the Women of Oz” will delve into the history of L. Frank Baum\, creator of the Wizard of Oz.\n\n“Oz On Stage” will also include performances by “The Wiz Kidz”. “The Wiz Kidz” is a musical theater troupe under the direction of Scarlett Antonia. The Wiz Kidz will be performing their own rendition of a story linked to the Wizard of Oz and its’ themes.\n\n“Oz On Stage” will also include musical and dance acts. Tickets are $20 with group discounts available.\n\n\n \n\n \n \n 
URL:https://ozclub.org/event/oz-on-stage-in-peekskill-ny/
LOCATION:Paramount Hudson Valley\, 1008 Brown St.\, Peekskill\, NY\, 10566\, United States
CATEGORIES:Live Events
ATTACH;FMTTYPE=image/jpeg:https://ozclub.org/wp-content/uploads/2023/03/Postcard-front.jpg
END:VEVENT
BEGIN:VEVENT
DTSTART;TZID=America/Chicago:20230513T000000
DTEND;TZID=America/Chicago:20230521T000000
DTSTAMP:20260421T175422
CREATED:20230320T025250Z
LAST-MODIFIED:20230320T025250Z
UID:100009413-1683936000-1684627200@ozclub.org
SUMMARY:The Wizard of Oz - Nevada Ballet
DESCRIPTION:The Wizard of Oz ballet with music by Matthew Pierce and choreography by Septime Webre comes to the Smith Center Park Avenue in Las Vegas May 13-21. \n“A truly magical ballet\, a spectacle worthy of Las Vegas and the perfect finale to NBT’s 2022-23 Season. Choreographer Septime Webre\, creator of Alice (in Wonderland)\, has fashioned an eye-popping journey to the Emerald City. Heartfelt and adventurous\, The Wizard of Oz is chock-full of joyful dancing\, fanciful costumes\, stellar stagecraft\, a wonderful score and\, of course\, flying monkeys.” \nTickets $31 – $154
URL:https://ozclub.org/event/the-wizard-of-oz-nevada-ballet/
LOCATION:The Smith Center Park Avenue\, 361 Symphony Park Avenue\, Las Vegas\, NV\, 89106\, United States
CATEGORIES:Live Events
ATTACH;FMTTYPE=image/png:https://ozclub.org/wp-content/uploads/2023/03/NevadaOzBallet.png
ORGANIZER;CN="The Nevada Ballet":MAILTO:info@nevadaballet.org
END:VEVENT
END:VCALENDAR