BEGIN:VCALENDAR
VERSION:2.0
PRODID:-//International Wizard of Oz Club - ECPv6.15.20//NONSGML v1.0//EN
CALSCALE:GREGORIAN
METHOD:PUBLISH
X-WR-CALNAME:International Wizard of Oz Club
X-ORIGINAL-URL:https://ozclub.org
X-WR-CALDESC:Events for International Wizard of Oz Club
REFRESH-INTERVAL;VALUE=DURATION:PT1H
X-Robots-Tag:noindex
X-PUBLISHED-TTL:PT1H
BEGIN:VTIMEZONE
TZID:America/Chicago
BEGIN:DAYLIGHT
TZOFFSETFROM:-0600
TZOFFSETTO:-0500
TZNAME:CDT
DTSTART:20220313T080000
END:DAYLIGHT
BEGIN:STANDARD
TZOFFSETFROM:-0500
TZOFFSETTO:-0600
TZNAME:CST
DTSTART:20221106T070000
END:STANDARD
BEGIN:DAYLIGHT
TZOFFSETFROM:-0600
TZOFFSETTO:-0500
TZNAME:CDT
DTSTART:20230312T080000
END:DAYLIGHT
BEGIN:STANDARD
TZOFFSETFROM:-0500
TZOFFSETTO:-0600
TZNAME:CST
DTSTART:20231105T070000
END:STANDARD
BEGIN:DAYLIGHT
TZOFFSETFROM:-0600
TZOFFSETTO:-0500
TZNAME:CDT
DTSTART:20240310T080000
END:DAYLIGHT
BEGIN:STANDARD
TZOFFSETFROM:-0500
TZOFFSETTO:-0600
TZNAME:CST
DTSTART:20241103T070000
END:STANDARD
END:VTIMEZONE
BEGIN:VEVENT
DTSTART;VALUE=DATE:20230319
DTEND;VALUE=DATE:20230701
DTSTAMP:20260421T152429
CREATED:20230320T030920Z
LAST-MODIFIED:20230423T180752Z
UID:100009420-1679184000-1688169599@ozclub.org
SUMMARY:Atlanta restaurant takes diners to Oz
DESCRIPTION:Amore e Amore\, an Italian restaurant in Atlanta\, is serving up everything from Ozmopolitan cocktails to Toto Tiramisu. Oz fans can enjoy the Oz themes now through the end of June. \n  \n  \n 
URL:https://ozclub.org/event/atlanta-restaurant-takes-diners-to-oz/
LOCATION:Amore e Amore\, 467 N Highland Ave NE\, Atlanta\, 30307\, United States
CATEGORIES:Live Events
ATTACH;FMTTYPE=image/png:https://ozclub.org/wp-content/uploads/2023/03/PopUpAtlanta.png
END:VEVENT
BEGIN:VEVENT
DTSTART;VALUE=DATE:20230601
DTEND;VALUE=DATE:20230626
DTSTAMP:20260421T152429
CREATED:20230428T035709Z
LAST-MODIFIED:20230526T054712Z
UID:100009972-1685577600-1687737599@ozclub.org
SUMMARY:American Conservatory Theater of San  Francisco Presents The Wizard of Oz
DESCRIPTION:A.C.T. presents the classic musical\, The Wizard of Oz\, from Tony Award–nominated director/choreographer Sam Pinkleton (Soft Power and Natasha\, Pierre & The Great Comet of 1812) and Tony Award-winning designer David Zinn (Edward Albee’s Seascape at A.C.T). Do you remember the first time you saw L. Frank Baum’s classic tale come to life? The sweeping music and lyrics by Harold Arlen and E.Y. Harburg\, the beloved characters\, and the enthralling journey of a young girl from a grayscale Kansas prairie to a world filled with color\, danger\, and magic. For decades this enchanting classic musical has been a part of some of the best moments of our lives. When you enter the Toni Rembe Theater to experience The Wizard of Oz\, you’ll connect with rekindled memories—as well as the spark of unexpected surprises and twists! \nThis season at A.C.T is all about returning home\, and that makes The Wizard of Oz the perfect choice for you\, your family\, and your friends. See you down the (yellow brick) road.  \n\nTicket prices look to be $15-80\, but may vary with performance date/time and any special offers.
URL:https://ozclub.org/event/toni-rembe-theater-of-san-francisco-offers-the-wizard-of-oz/
LOCATION:The Toni Rembe Theater\, 415 Geary Street\, San Francisco\, CA\, 94102
CATEGORIES:Live Events
ATTACH;FMTTYPE=image/jpeg:https://ozclub.org/wp-content/uploads/2023/04/ACTOz.jpg
ORGANIZER;CN="American Conservatory Theater":MAILTO:tickets@act-sf.org
END:VEVENT
BEGIN:VEVENT
DTSTART;VALUE=DATE:20230602
DTEND;VALUE=DATE:20230605
DTSTAMP:20260421T152429
CREATED:20230227T044234Z
LAST-MODIFIED:20230227T044234Z
UID:100008834-1685664000-1685923199@ozclub.org
SUMMARY:Oz-Stravaganza 2023
DESCRIPTION:The annual Oz-Stravaganza Festival is the largest and longest-running Wizard of Oz-themed festival in the world. The magic lives on for a weekend every year in Chittenango\, NY (just outside Syracuse). \nJoin us the weekend of the first Saturday in June for a trip down the Yellow Brick Road. There will be new friends to meet\, entertainment to amaze\, Emerald City shopping at its finest with vendors from near and far\, as well as rides\, games\, a silent auction\, and entertainment on the stage. There is also a costume contest\, coloring contest\, writing contest\, and photography contest\, and special guests from across the Oz universe! \nIn addition to the festival; (complete with Friday night fireworks and a Saturday afternoon parade\, and evening shows featuring the special guests)\, Baum’s birthplace features yellow brick road sidewalks that take you to the All Things Oz Museum\, a Creek-walk along Chittenango Creek\, and the Chittenango Landing Canal Boat Museum. Visit the shops and eateries throughout the village and take some extra time for nearby attractions like the Matilda Joslyn Gage Center (where Baum was married)\, the WILD Animal Park\, Chittenango Falls State Park\, and the YBR Casino. \nWhether your slippers are silver or ruby red\, take three steps\, or click your heels three times and remember…there’s no place like home! \n 
URL:https://ozclub.org/event/oz-stravaganza-2023/
LOCATION:The International L. Frank Baum & All Things Oz Historical Foundation\, 219 Genesee St.\, Chittenango\, NY\, 13037\, United States
CATEGORIES:Live Events
ATTACH;FMTTYPE=image/jpeg:https://ozclub.org/wp-content/uploads/2023/02/Over-the-Rainbow-to-Oz-theme-artwork.jpg
ORGANIZER;CN="The International L. Frank Baum & All Things Oz Historical Foundation":MAILTO:main@allthingsoz.org
END:VEVENT
BEGIN:VEVENT
DTSTART;TZID=America/Chicago:20230602T000000
DTEND;TZID=America/Chicago:20230625T000000
DTSTAMP:20260421T152429
CREATED:20230606T225336Z
LAST-MODIFIED:20230606T225336Z
UID:100010296-1685664000-1687651200@ozclub.org
SUMMARY:Albuquerque Little Theatre features the Wizard of Oz
DESCRIPTION:Follow the yellow brick road in this delightful stage adaptation of L. Frank Baum’s beloved tale\, featuring the iconic musical score from the MGM film. The timeless tale\, in which young Dorothy Gale travels from Kansas over the rainbow to the magical Land of Oz\, continues to thrill audiences worldwide. This production using the now-classic Royal Shakespeare Company version of the popular musical. \nPricing may vary by date/time\, but looks to be $19-27. Note that masks are required for audiences in a few selected performances. See the website for details.
URL:https://ozclub.org/event/albuquerque-little-theatre-features-the-wizard-of-oz/
LOCATION:Albuquerque Little Theatre\, 224 San Pasquale SW\, Albuquerque\, NM\, 87104
CATEGORIES:Live Events
ATTACH;FMTTYPE=image/jpeg:https://ozclub.org/wp-content/uploads/2023/06/AlbLtlTheatre.jpg
ORGANIZER;CN="Albuquerque Little Theatre":MAILTO:boxoffice@abqliltheatre.org
END:VEVENT
BEGIN:VEVENT
DTSTART;TZID=America/Chicago:20230602T190000
DTEND;TZID=America/Chicago:20230709T190000
DTSTAMP:20260421T152429
CREATED:20230524T043331Z
LAST-MODIFIED:20230524T044624Z
UID:100010153-1685732400-1688929200@ozclub.org
SUMMARY:World Premiere Musical OZ Debuts in Florida
DESCRIPTION:Preempted from freeFall Theatre Company’s 19/20 season\, OZ a new world-premiere musical\, takes the stage June 2. The original production will reportedly “explore the genius of L. Frank Baum and his complicated relationship with his most famous creation\, the Land of Oz.”  The announcement goes on to say\, “This is the story of a dreamer at the dawn of a new age who reinvented the fairy tale in a distinctly American way\, painting an idealized and magical vision of a world where witches might be good\, and what you’re seeking is already inside you.” \nOZ stars David Foley\, Jr. (Broadway National Tour of The Phantom of the Opera)\, Melissa Minyard (Broadway’s Les Miserables) and Drew H. Wells (freeFall debut!). Tampa Bay favorite Roxanne Fay is Matilda Joslyn Gage with Elizabeth Meckler (American Stage’s Ragtime) as Dorothy.  freeFall’s artistic director Eric Davis and resident music director Michael Raabe have been collaborating for more than a decade on re-imagined productions of classics The Pirates of Penzance\, Peter Pan\, War of the Worlds and the interactive walkthrough experience\, The Rose and The Beast. OZ marks the longtime collaborators first original work together with Raabe writing music and lyrics and Davis writing the book and additional lyrics. \nBook tickets here Tickets range from $45 – $55. freeFall matinees are always at 2pm and evening performances are always at 7pm. \nPreviews are June 2 at 7pm and June 3 at 2pm. Tickets for previews are only $25.
URL:https://ozclub.org/event/world-premiere-musical-oz-debuts-in-tampa/
LOCATION:freeFall Theatre Company\, 6099 Central Avenue\, St. Petersburg\, FL\, 33710\, United States
CATEGORIES:Live Events
ATTACH;FMTTYPE=image/png:https://ozclub.org/wp-content/uploads/2023/05/freeFallOz.png
END:VEVENT
BEGIN:VEVENT
DTSTART;TZID=America/Chicago:20230607T190000
DTEND;TZID=America/Chicago:20230607T213000
DTSTAMP:20260421T152429
CREATED:20230524T044113Z
LAST-MODIFIED:20230524T044113Z
UID:100010157-1686164400-1686173400@ozclub.org
SUMMARY:Return to Oz with Pre-show Discussion
DESCRIPTION:Movies with Matthew\, hosted by Matthew McGee\, brings Return to Oz to the freeFall theatre\nDorothy (Fairuza Balk) finds that her old friends have been turned to stone\, and urban blight has struck the Emerald City. Assisted by new friends\, Dorothy battles the wicked Princess Mombi and the evil Nome King\, saving her friends and restoring the Emerald City. You’ll love accompanying Dorothy on this thrilling adventure based on L. Frank Baum’s “Oz” books! With every twist in the yellow brick road\, you’ll find awesome new surprises and special effects that will astound you! \nThis screening will include a pre-show discussion with Matthew and a special guest. Return to Oz is rated PG and has a running time of one hour and forty-nine minutes.
URL:https://ozclub.org/event/return-to-oz-with-pre-show-discussion/
LOCATION:freeFall Theatre Company\, 6099 Central Avenue\, St. Petersburg\, FL\, 33710\, United States
CATEGORIES:Live Events
ATTACH;FMTTYPE=image/jpeg:https://ozclub.org/wp-content/uploads/2023/05/return-to-oz-1315x2048-1.jpg
END:VEVENT
BEGIN:VEVENT
DTSTART;VALUE=DATE:20230608
DTEND;VALUE=DATE:20230612
DTSTAMP:20260421T152429
CREATED:20230318T055020Z
LAST-MODIFIED:20230428T035854Z
UID:100009314-1686182400-1686527999@ozclub.org
SUMMARY:Judy Garland Festival\, Grand Rapids\, Minn.
DESCRIPTION:The Judy Garland Festival will be held the weekend of June 9-11\, but check the registration page of the website for events beginning as early as June 8. (There’s even one house tour June 7.) Tickets are available for tours\, teas\, games\, quizzes\, author presentations\, intimate live concerts\, food events\, and more. Although no screening of MGM’s The Wizard of Oz appears to be planned\, the museum includes an Oz collection the highlight of which is the Emerald City carriage that was drawn by the Horse of a Different Color. \n\n\nJudy Garland and Children’s Discovery Museum 2727 South Pokegama Avenue Grand Rapids\, MN 55744\n\n\n\n\nContact \nEmail: info@judygarlandmuseum.com Website: www.judygarlandmuseum.com Phone: 218-327-9276
URL:https://ozclub.org/event/judy-garland-festival-grand-rapids-minn/
LOCATION:Judy Garland Museum\, 2727 S. Pokegama Ave.\, Grand Rapids\, MN\, 55744\, United States
CATEGORIES:Live Events
ATTACH;FMTTYPE=image/jpeg:https://ozclub.org/wp-content/uploads/2023/03/11349.jpeg
END:VEVENT
BEGIN:VEVENT
DTSTART;VALUE=DATE:20230616
DTEND;VALUE=DATE:20230724
DTSTAMP:20260421T152429
CREATED:20230630T041744Z
LAST-MODIFIED:20230630T041744Z
UID:100010431-1686873600-1690156799@ozclub.org
SUMMARY:Arizona Broadway Theatre (Peoria) offers The Wizard of Oz
DESCRIPTION:“Cassandra and Kiel Klaphake\, the visionary forces behind Arizona Broadway Theatre\, have delivered a winner with their refreshingly revisited production of THE WIZARD OF OZ.” Herbert Paine\, Broadway World \nJourney to the Land of Oz with Dorothy\, Toto\, and all their friends in this classic production based on the story by L. Frank Baum. . \nExperience Oz like you never have before this summer! With brand-new\, state-of-the-art technology\, the stunning larger-than-life imagery on stage will transport you and your family over the rainbow for a magical experience unlike any other. \nTickets for dinner and the performance are priced at $79-120. \nCheck out the “after dark cabaret” performances with the cast June 30-July1! \nhttps://www.eventbrite.com/e/after-dark-cabaret-wizard-of-oz-tickets-509665662717
URL:https://ozclub.org/event/arizona-broadway-theatre-peoria-offers-the-wizard-of-oz/
LOCATION:Mainstage Theatre at Arizon Broadway Theatre\, 7701 W. Paradise Lane\, Peoria\, AZ\, 85382\, United States
CATEGORIES:Live Events
ATTACH;FMTTYPE=image/png:https://ozclub.org/wp-content/uploads/2023/06/WOO-_286-x-400.png
END:VEVENT
END:VCALENDAR